BEGIN:VCALENDAR
VERSION:2.0
PRODID:spatie/icalendar-generator
DESCRIPTION:Veranstaltungen von Sportschützen Grindel e.V. 1952
X-WR-CALDESC:Veranstaltungen von Sportschützen Grindel e.V. 1952
REFRESH-INTERVAL;VALUE=DURATION:PT1440M
X-PUBLISHED-TTL:PT1440M
BEGIN:VTIMEZONE
TZID:Europe/Berlin
BEGIN:STANDARD
DTSTART:20251026T030000Z
TZOFFSETFROM:+0200
TZOFFSETTO:+0100
END:STANDARD
BEGIN:DAYLIGHT
DTSTART:20260329T020000Z
TZOFFSETFROM:+0100
TZOFFSETTO:+0200
END:DAYLIGHT
BEGIN:STANDARD
DTSTART:20261025T030000Z
TZOFFSETFROM:+0200
TZOFFSETTO:+0100
END:STANDARD
END:VTIMEZONE
BEGIN:VTIMEZONE
TZID:UTC
BEGIN:STANDARD
DTSTART:20250726T142947Z
TZOFFSETFROM:+0000
TZOFFSETTO:+0000
END:STANDARD
END:VTIMEZONE
BEGIN:VEVENT
UID:53-9
DTSTAMP:20260422T142947Z
SUMMARY:Stammtisch
LOCATION:Sportschützen Grindel e.V. 1952 Koblenz-Olper-Straße 8  Wehbach 
  57548
ORGANIZER;CN=st:MAILTO:st@ipsc-grindel.de
RRULE:FREQ=WEEKLY;INTERVAL=2;UNTIL=20261231T000000Z
DTSTART;TZID=Europe/Berlin:20260424T200000
DTEND;TZID=Europe/Berlin:20260424T230000
X-ALT-DESC;FMTTYPE=TEXT/HTML:Grillen\, quatschen\, Bierchen trinken :)
CATEGORIES:Stammtisch
URL;VALUE=URI:https://sportschuetzen-kirchen-grindel.de/mc-events/stammtisc
 h/?mc_id=53
METHOD:PUBLISH
END:VEVENT
END:VCALENDAR